BEGIN:VCALENDAR
VERSION:2.0
PRODID:-//rinofoundation.org//NONSGML kigkonsult.se iCalcreator 2.30.10//
CALSCALE:GREGORIAN
METHOD:PUBLISH
UID:51d4b88c-68d1-4a08-a6df-e8d7d1b0555e
X-WR-CALDESC:Join us for an unforgettable fashion show where style meets pu
 rpose — raising funds to empower women and support life-changing projects 
 for women worldwide. This event is to empower women to see the gift they t
 ruly are. This event is for ALL LADIES 13+.
X-WR-RELCALID:ef9ccae8e8e556cad0f81f0da2a3de67
X-WR-TIMEZONE:America/New_York
BEGIN:VTIMEZONE
TZID:America/New_York
BEGIN:STANDARD
TZNAME:EST
DTSTART:20241103T020000
TZOFFSETFROM:-0400
TZOFFSETTO:-0500
RDATE:20251102T020000
RDATE:20261101T020000
END:STANDARD
BEGIN:DAYLIGHT
TZNAME:EDT
DTSTART:20250309T020000
TZOFFSETFROM:-0500
TZOFFSETTO:-0400
RDATE:20260308T020000
RDATE:20270314T020000
END:DAYLIGHT
END:VTIMEZONE
BEGIN:VEVENT
UID:ca0e8dd4-93c1-42a9-b16b-71e161af5ac6
DTSTAMP:20260422T120248Z
DESCRIPTION:Join us for an unforgettable fashion show where style meets pur
 pose — raising funds to empower women and support life-changing projects f
 or women worldwide. This event is to empower women to see the gift they tr
 uly are. This event is for ALL LADIES 13+.
DTSTART;TZID=America/New_York:20251009T180000
DTEND;TZID=America/New_York:20251009T210000
LOCATION:3060 Center Valley Pkwy\, Suite 819\, Center Valley\, PA 18034 US
SUMMARY:You Are Worthy Fashion Show Fundraiser
END:VEVENT
END:VCALENDAR
