BEGIN:VCALENDAR
VERSION:2.0
PRODID:-//rinofoundation.org//NONSGML kigkonsult.se iCalcreator 2.30.10//
CALSCALE:GREGORIAN
METHOD:PUBLISH
UID:4c404e68-23ba-46f3-8888-2b58a8382b9f
X-WR-CALDESC:
X-WR-RELCALID:0bd449d3dfdc992e18fdbc9f61cf2fbc
X-WR-TIMEZONE:America/New_York
BEGIN:VTIMEZONE
TZID:America/New_York
BEGIN:STANDARD
TZNAME:EST
DTSTART:20251102T020000
TZOFFSETFROM:-0400
TZOFFSETTO:-0500
RDATE:20261101T020000
END:STANDARD
BEGIN:DAYLIGHT
TZNAME:EDT
DTSTART:20260308T020000
TZOFFSETFROM:-0500
TZOFFSETTO:-0400
RDATE:20270314T020000
END:DAYLIGHT
END:VTIMEZONE
BEGIN:VEVENT
UID:5bd2bd44-1d94-4114-a7ca-a36b082d8168
DTSTAMP:20260421T095705Z
DESCRIPTION:
DTSTART;TZID=America/New_York:20260419T060000
DTEND;TZID=America/New_York:20260423T060001
LOCATION:Dominican Republic
SUMMARY:Dominican Republic: Worthy Women's Empowerment Trip
END:VEVENT
END:VCALENDAR
